BEGIN:VCALENDAR
VERSION:2.0
PRODID:-//Pergram - ECPv6.15.20//NONSGML v1.0//EN
CALSCALE:GREGORIAN
METHOD:PUBLISH
X-WR-CALNAME:Pergram
X-ORIGINAL-URL:https://pergram.org
X-WR-CALDESC:Events for Pergram
REFRESH-INTERVAL;VALUE=DURATION:PT1H
X-Robots-Tag:noindex
X-PUBLISHED-TTL:PT1H
BEGIN:VTIMEZONE
TZID:America/New_York
BEGIN:DAYLIGHT
TZOFFSETFROM:-0500
TZOFFSETTO:-0400
TZNAME:EDT
DTSTART:20240310T070000
END:DAYLIGHT
BEGIN:STANDARD
TZOFFSETFROM:-0400
TZOFFSETTO:-0500
TZNAME:EST
DTSTART:20241103T060000
END:STANDARD
BEGIN:DAYLIGHT
TZOFFSETFROM:-0500
TZOFFSETTO:-0400
TZNAME:EDT
DTSTART:20250309T070000
END:DAYLIGHT
BEGIN:STANDARD
TZOFFSETFROM:-0400
TZOFFSETTO:-0500
TZNAME:EST
DTSTART:20251102T060000
END:STANDARD
BEGIN:DAYLIGHT
TZOFFSETFROM:-0500
TZOFFSETTO:-0400
TZNAME:EDT
DTSTART:20260308T070000
END:DAYLIGHT
BEGIN:STANDARD
TZOFFSETFROM:-0400
TZOFFSETTO:-0500
TZNAME:EST
DTSTART:20261101T060000
END:STANDARD
END:VTIMEZONE
BEGIN:VEVENT
DTSTART;TZID=America/New_York:20250721T000000
DTEND;TZID=America/New_York:20250724T235959
DTSTAMP:20260421T174550
CREATED:20250106T170046Z
LAST-MODIFIED:20251215T201631Z
UID:265-1753056000-1753401599@pergram.org
SUMMARY:Athens Institute—9th Annual International Symposium on the Future of STEAM Education
DESCRIPTION:Pergram will present his paper “Playlisting the World: How Music\, Technology\, and Global Influences Impact the Culture of College Student Listeners” at the 9th Annual International Symposium on the Future of STEAM Education in Athens\, Greece\, in July 2025. \nHow do you hear the world around you? For undergraduates\, developing cultural competency can be approached by challenging students to reflect on the world around them. Considering the impacts of music on how students self-identify in a worldwide context\, this article details the course design decisions\, pedagogical approaches\, and cohort-learning models that inspire young people. By focusing on global playlisting—the art of curating\, streaming\, and contextualizing music from around the world—students will collect and share their musical collections in a gamified learning space. \nUsing popular music to understand global forces\, students can explore contemporary sociocultural phenomena by studying lyrics\, soundscapes\, and technologies that create viral sensations. In addition\, analyzing the audience of tomorrow requires scholarly considerations of current and historical topics\, including investigations of power systems and their impacts on individuals and collective groups that shape musical responses. \nAnother core discussion topic in this paper centers on engaged learning. It is critical to offer a non-static learning space for students of the current generation in higher education. Therefore\, this article showcases techniques that inspire students to engage in course material through cooperative learning. The aim is for students to think outside of their cultural-linguistic group. Therefore\, several traditional aspects of learning have been adjusted to accommodate global explorations. By emphasizing creative\, project-based learning\, students will recognize\, develop\, and hone transferable skills within STEAM Education.
URL:https://pergram.org/event/athens-institute-9th-annual-international-symposium-on-the-future-of-steam-education/
LOCATION:Athens Institute\, 9 Chalkokondili Street\, Athens\, 10677\, Greece
CATEGORIES:Conference
ATTACH;FMTTYPE=image/png:https://pergram.org/wp-content/uploads/2025/12/atiner12800-300x169-1.png
END:VEVENT
END:VCALENDAR