BEGIN:VCALENDAR
VERSION:2.0
PRODID:-//Pergram - ECPv6.15.20//NONSGML v1.0//EN
CALSCALE:GREGORIAN
METHOD:PUBLISH
X-WR-CALNAME:Pergram
X-ORIGINAL-URL:https://pergram.org
X-WR-CALDESC:Events for Pergram
REFRESH-INTERVAL;VALUE=DURATION:PT1H
X-Robots-Tag:noindex
X-PUBLISHED-TTL:PT1H
BEGIN:VTIMEZONE
TZID:America/New_York
BEGIN:DAYLIGHT
TZOFFSETFROM:-0500
TZOFFSETTO:-0400
TZNAME:EDT
DTSTART:20250309T070000
END:DAYLIGHT
BEGIN:STANDARD
TZOFFSETFROM:-0400
TZOFFSETTO:-0500
TZNAME:EST
DTSTART:20251102T060000
END:STANDARD
BEGIN:DAYLIGHT
TZOFFSETFROM:-0500
TZOFFSETTO:-0400
TZNAME:EDT
DTSTART:20260308T070000
END:DAYLIGHT
BEGIN:STANDARD
TZOFFSETFROM:-0400
TZOFFSETTO:-0500
TZNAME:EST
DTSTART:20261101T060000
END:STANDARD
BEGIN:DAYLIGHT
TZOFFSETFROM:-0500
TZOFFSETTO:-0400
TZNAME:EDT
DTSTART:20270314T070000
END:DAYLIGHT
BEGIN:STANDARD
TZOFFSETFROM:-0400
TZOFFSETTO:-0500
TZNAME:EST
DTSTART:20271107T060000
END:STANDARD
END:VTIMEZONE
BEGIN:VEVENT
DTSTART;TZID=America/New_York:20260108T000000
DTEND;TZID=America/New_York:20260110T235959
DTSTAMP:20260421T160051
CREATED:20251215T140550Z
LAST-MODIFIED:20251215T203321Z
UID:92-1767830400-1768089599@pergram.org
SUMMARY:Lilly Conference—San Diego
DESCRIPTION:ITLC Conference on Teaching for Active & Engaged Learning in the Age of AI in San Diego\, California. Presentation title: \n‘A’ is for Algorithm: Global Playlists to Cultivate STEAM Fluency.
URL:https://pergram.org/event/lilly-conference-san-diego/
LOCATION:DoubleTree San Diego – Mission Valley\, 7450 Hazard Center Drive\, San Diego\, CA\, 92108\, United States
CATEGORIES:Conference
ATTACH;FMTTYPE=image/avif:https://pergram.org/wp-content/uploads/2025/12/Lilly-Logo.avif
END:VEVENT
BEGIN:VEVENT
DTSTART;TZID=America/New_York:20260221T120000
DTEND;TZID=America/New_York:20260221T170000
DTSTAMP:20260421T160051
CREATED:20260208T143946Z
LAST-MODIFIED:20260208T144517Z
UID:333-1771675200-1771693200@pergram.org
SUMMARY:Invite: Miami University Bassoon Day 2026
DESCRIPTION:Double reed enthusiasts have a major date to add to their 2026 calendars. Bassoon Day is officially coming to Oxford\, Ohio\, promising an immersive experience for players and fans alike! \nThe event features a standout lineup of faculty\, including special guest Professor Carlos Manuel López Soria (bassoon) of Western Michigan University and Professor Neil Qiang (piano) of Central State University. Together\, they are set to lead a day dedicated to artistry\, pedagogy\, and community. \nEvent Highlights\nThe schedule is packed with opportunities for growth and performance\, including: \n\nArtist Recital: A showcase of world-class bassoon repertoire.\nMaster Class: Direct instruction and feedback from seasoned professionals.\nReed Making: Hands-on guidance for one of the instrument’s most essential skills.\nCareer-Readiness Workshop: Insights into navigating the professional music landscape.\nContest: A friendly\, competitive platform for participants. Click here!\n\n\nRegistration Details\nRegistration for the event is $15\, which includes an official event t-shirt. Organizers are encouraging the community to spread the word and bring fellow musicians along for what promises to be a memorable day of music-making. \nWho can attend? \n\nStudents of any grade (ie\, middle school through college)\nParents\, guardians\nTeachers\, friends\, community members\n\nTo register\, click here.
URL:https://pergram.org/event/invite-miami-university-bassoon-day-2026/
LOCATION:Miami University Center for Performing Arts\, 420 S Patterson Ave.\, Oxford\, OH\, 45056\, United States
CATEGORIES:Special Event
ATTACH;FMTTYPE=image/png:https://pergram.org/wp-content/uploads/2026/02/Bassoon-Day-26-Logo-2-e1770561908421.png
ORGANIZER;CN="Miami University Department of Music":MAILTO:music@MiamiOH.edu
END:VEVENT
BEGIN:VEVENT
DTSTART;TZID=America/New_York:20260313T000000
DTEND;TZID=America/New_York:20260314T235959
DTSTAMP:20260421T160051
CREATED:20260208T021355Z
LAST-MODIFIED:20260208T021355Z
UID:323-1773360000-1773532799@pergram.org
SUMMARY:Silkwind Mundi Performs—College Music Society: 2026 Central Chapter Conference
DESCRIPTION:Silkwind Mundi has been selected to present at the 2026 College Music Society (CMS) Central Chapter Conference at Metropolitan State University in Denver\, Colorado\, on March 13-14. \nThe ensemble will perform music by Jarran Ahaz Armstrong at an artist showcase concert.
URL:https://pergram.org/event/silkwind-mundi-performs-college-music-society-2026-central-chapter-conference/
LOCATION:Metropolitan State University of Denver\, 890 Auraria Pkwy\, Denver\, CO\, 80204\, United States
CATEGORIES:Conference,Performance
ATTACH;FMTTYPE=image/webp:https://pergram.org/wp-content/uploads/2025/12/CollegeMusicSocietySquare-e1765830997810.webp
END:VEVENT
BEGIN:VEVENT
DTSTART;TZID=America/New_York:20260325T000000
DTEND;TZID=America/New_York:20260327T235959
DTSTAMP:20260421T160051
CREATED:20251215T183258Z
LAST-MODIFIED:20251215T203749Z
UID:234-1774396800-1774655999@pergram.org
SUMMARY:El Simposio Internacional de Dúos 2026
DESCRIPTION:El Simposio Internacional de Dúos 2026: A platform for exploring the duo format in chamber music\, this gathering unites diverse portable duos to share their instrumentation\, interpretations\, and repertoire. It fosters exchange and reflection and celebrates the sonic diversity that arises from the dialogue between two instruments.\n\n\n\nThis will be the debut event for Silkwind Mundi\, performing the premiere of Jarran Ahaz Armstrong’s Three Pieces for Bassoon and Sheng (2025). Silkwind Mundi commissioned Armstrong to write this work for the symposium.
URL:https://pergram.org/event/el-simposio-internacional-de-duos-2026/
LOCATION:Universidad de Costa Rica\, Ciudad Universitaria Rodrigo Facio Brenes\, San José\, San José\, Costa Rica
CATEGORIES:Conference,Performance
ATTACH;FMTTYPE=image/png:https://pergram.org/wp-content/uploads/2025/12/logo-color_duos-costa-rica-e1765831060129.png
END:VEVENT
BEGIN:VEVENT
DTSTART;TZID=America/New_York:20260417T000000
DTEND;TZID=America/New_York:20260418T235959
DTSTAMP:20260421T160051
CREATED:20251215T194247Z
LAST-MODIFIED:20251215T194335Z
UID:256-1776384000-1776556799@pergram.org
SUMMARY:College Music Society: 2026 Great Lakes Chapter Conference
DESCRIPTION:Aaron Pergram has been selected to present at the 2026 College Music Society (CMS) Great Lakes Chapter Conference at Southern Illinois University Carbondale in Carbondale\, IL\, on April 17-18\, 2026. \nHe will deliver a presentation titled “The Shaman\, the Economist\, and the Podcast: Gamifying Cooperative Learning in a Diverse Global Music Course.” This session will explore innovative pedagogical strategies for engaging students in global music curricula through gamification and cooperative learning structures.
URL:https://pergram.org/event/college-music-society-2026-great-lakes-chapter-conference/
LOCATION:Southern Illinois University\, Carbondale\, IL\, 62901\, United States
CATEGORIES:Conference
ATTACH;FMTTYPE=image/webp:https://pergram.org/wp-content/uploads/2025/12/CollegeMusicSocietySquare-e1765830997810.webp
END:VEVENT
END:VCALENDAR