BEGIN:VCALENDAR
VERSION:2.0
PRODID:-//Pergram - ECPv6.15.20//NONSGML v1.0//EN
CALSCALE:GREGORIAN
METHOD:PUBLISH
X-WR-CALNAME:Pergram
X-ORIGINAL-URL:https://pergram.org
X-WR-CALDESC:Events for Pergram
REFRESH-INTERVAL;VALUE=DURATION:PT1H
X-Robots-Tag:noindex
X-PUBLISHED-TTL:PT1H
BEGIN:VTIMEZONE
TZID:America/New_York
BEGIN:DAYLIGHT
TZOFFSETFROM:-0500
TZOFFSETTO:-0400
TZNAME:EDT
DTSTART:20240310T070000
END:DAYLIGHT
BEGIN:STANDARD
TZOFFSETFROM:-0400
TZOFFSETTO:-0500
TZNAME:EST
DTSTART:20241103T060000
END:STANDARD
BEGIN:DAYLIGHT
TZOFFSETFROM:-0500
TZOFFSETTO:-0400
TZNAME:EDT
DTSTART:20250309T070000
END:DAYLIGHT
BEGIN:STANDARD
TZOFFSETFROM:-0400
TZOFFSETTO:-0500
TZNAME:EST
DTSTART:20251102T060000
END:STANDARD
BEGIN:DAYLIGHT
TZOFFSETFROM:-0500
TZOFFSETTO:-0400
TZNAME:EDT
DTSTART:20260308T070000
END:DAYLIGHT
BEGIN:STANDARD
TZOFFSETFROM:-0400
TZOFFSETTO:-0500
TZNAME:EST
DTSTART:20261101T060000
END:STANDARD
END:VTIMEZONE
BEGIN:VEVENT
DTSTART;TZID=America/New_York:20250721T000000
DTEND;TZID=America/New_York:20250724T235959
DTSTAMP:20260421T135902
CREATED:20250106T170046Z
LAST-MODIFIED:20251215T201631Z
UID:265-1753056000-1753401599@pergram.org
SUMMARY:Athens Institute—9th Annual International Symposium on the Future of STEAM Education
DESCRIPTION:Pergram will present his paper “Playlisting the World: How Music\, Technology\, and Global Influences Impact the Culture of College Student Listeners” at the 9th Annual International Symposium on the Future of STEAM Education in Athens\, Greece\, in July 2025. \nHow do you hear the world around you? For undergraduates\, developing cultural competency can be approached by challenging students to reflect on the world around them. Considering the impacts of music on how students self-identify in a worldwide context\, this article details the course design decisions\, pedagogical approaches\, and cohort-learning models that inspire young people. By focusing on global playlisting—the art of curating\, streaming\, and contextualizing music from around the world—students will collect and share their musical collections in a gamified learning space. \nUsing popular music to understand global forces\, students can explore contemporary sociocultural phenomena by studying lyrics\, soundscapes\, and technologies that create viral sensations. In addition\, analyzing the audience of tomorrow requires scholarly considerations of current and historical topics\, including investigations of power systems and their impacts on individuals and collective groups that shape musical responses. \nAnother core discussion topic in this paper centers on engaged learning. It is critical to offer a non-static learning space for students of the current generation in higher education. Therefore\, this article showcases techniques that inspire students to engage in course material through cooperative learning. The aim is for students to think outside of their cultural-linguistic group. Therefore\, several traditional aspects of learning have been adjusted to accommodate global explorations. By emphasizing creative\, project-based learning\, students will recognize\, develop\, and hone transferable skills within STEAM Education.
URL:https://pergram.org/event/athens-institute-9th-annual-international-symposium-on-the-future-of-steam-education/
LOCATION:Athens Institute\, 9 Chalkokondili Street\, Athens\, 10677\, Greece
CATEGORIES:Conference
ATTACH;FMTTYPE=image/png:https://pergram.org/wp-content/uploads/2025/12/atiner12800-300x169-1.png
END:VEVENT
BEGIN:VEVENT
DTSTART;TZID=America/New_York:20250614T110000
DTEND;TZID=America/New_York:20250614T113000
DTSTAMP:20260421T135902
CREATED:20250201T170044Z
LAST-MODIFIED:20251215T203841Z
UID:277-1749898800-1749900600@pergram.org
SUMMARY:Recital—IDRS 2025 54th Annual Conference
DESCRIPTION:Pergram will perform at the IDRS 2025 54th Annual Conference at Butler University\, Indianapolis\, June 10-14\, 2025. He will perform a recital entitled “A Garden of Stories\,” with pianist Miguel Campinho. This recital includes three unpublished works\, two of which were commissioned by Aaron Pergram\, highlighting the work of living women composers of the Chinese diaspora. Two works by the composer\, both for bassoon and fixed media\, tell stories from two significant periods of Chinese history: the Warring States Period and the pre-Qin period. The third piece on the program is a set of reimagined Taiwanese children’s songs for bassoon and piano. \nChu Ci (Elegies of Chu)\, Wang Chi (b. 1985)\nFixed Media \nGín-á Koa\, Chihchun Chi-sun Lee (b. 1970)\nI. It ê Chhá Bí-Phang\nII. Goéh Nîu-nîu & Hóe-Kim-Kò\nIII. Sio Sio Sio (Nya nya nya nya nya nya)\nAaron Pergram\, Bassoon\nMiguel Campinho\, Piano \nYueren Ge (Song of the Yue Boatman)\, Wang Chi (b. 1985)\nFixed Media
URL:https://pergram.org/event/recital-idrs-2025-54th-annual-conference/
LOCATION:Butler University\, 4600 Sunset Avenue\, Indianapolis\, OH\, 46208\, United States
CATEGORIES:Conference,Performance
ATTACH;FMTTYPE=image/png:https://pergram.org/wp-content/uploads/2025/12/idrs-memberlogo-standard.png
END:VEVENT
BEGIN:VEVENT
DTSTART;TZID=America/New_York:20250308T100000
DTEND;TZID=America/New_York:20250308T110000
DTSTAMP:20260421T135902
CREATED:20250308T170010Z
LAST-MODIFIED:20251216T000416Z
UID:295-1741428000-1741431600@pergram.org
SUMMARY:College Music Society: 2025 Great Lakes Chapter Conference
DESCRIPTION:Performance at the 2025 College Music Society 42nd Great Lakes Chapter Conference. \nChu Ci (Elegies of Chu)\, Wang Chi (b. 1985)\nFixed Media
URL:https://pergram.org/event/college-music-society-2025-great-lakes-chapter-conference/
LOCATION:Roosevelt University\, 430 S Michigan Ave\, Chicago\, IL\, 60605\, United States
CATEGORIES:Conference,Performance
ATTACH;FMTTYPE=image/webp:https://pergram.org/wp-content/uploads/2025/12/CollegeMusicSocietySquare-e1765830997810.webp
END:VEVENT
BEGIN:VEVENT
DTSTART;TZID=America/New_York:20250109T000000
DTEND;TZID=America/New_York:20250111T235959
DTSTAMP:20260421T135902
CREATED:20250109T170007Z
LAST-MODIFIED:20251215T225532Z
UID:302-1736380800-1736639999@pergram.org
SUMMARY:Meg Quigley: 2025
DESCRIPTION:Pergram will perform with Allison Gagnon (piano) at the 2025 Meg Quigley Bassoon Symposium in Winston-Salem\, North Carolina\, in January 2025. \n  \nGín-á Koa\, Chihchun Chi-sun Lee (b. 1970)  \nI. It e Chha Bi-Phang  \nII. Goeh niu-niu and Hoe-kim-ko \nIII. Sio Sio Sio  \nAaron Pergram\, bassoon  \nAllison Gagnon\, piano
URL:https://pergram.org/event/meg-quigley-2025/
LOCATION:University of North Carolina School for the Arts\, 1533 S Main St\, Winston-Salem\, NC\, 27127\, United States
CATEGORIES:Conference,Performance
ATTACH;FMTTYPE=image/webp:https://pergram.org/wp-content/uploads/2025/12/MQVC-Logo-PO_MegQuigley-FullLockup-Color-e1765839267799.webp
END:VEVENT
END:VCALENDAR